BEGIN:VCALENDAR
VERSION:2.0
PRODID:emmh.hkust.edu.hk
BEGIN:VEVENT
UID:69e5c70ba554c
DTSTART;VALUE=DATE:20240118
SEQUENCE:0
TRANSP:OPAQUE
DTEND;VALUE=DATE:20240209
SUMMARY:Weekly Psychoeducation for Nepalese Families: A Compassionate Serie
 s on Parenting\, Mental Wellness\, and Family Dynamics
CLASS:PUBLIC
DESCRIPTION:Weekly Psychoeducation for Nepalese Families: A Compassionate S
 eries on Parenting\, Mental Wellness\, and Family Dynamics
X-MICROSOFT-CDO-ALLDAYEVENT:TRUE
DTSTAMP:20260420T062619Z
END:VEVENT
END:VCALENDAR