BEGIN:VCALENDAR
VERSION:2.0
PRODID:emmh.hkust.edu.hk
BEGIN:VEVENT
UID:69e5532aec0bd
DTSTART:20240619T103000Z
SEQUENCE:0
TRANSP:OPAQUE
DTEND:20240619T123000Z
SUMMARY:Building Stronger Families: Enhancing Communication and Positive Pa
 renting
CLASS:PUBLIC
DESCRIPTION:Building Stronger Families: Enhancing Communication and Positiv
 e Parenting
DTSTAMP:20260419T221154Z
END:VEVENT
BEGIN:VEVENT
UID:69e5532aec101
DTSTART:20240620T103000Z
SEQUENCE:0
TRANSP:OPAQUE
DTEND:20240620T123000Z
SUMMARY:Building Stronger Families: Enhancing Communication and Positive Pa
 renting
CLASS:PUBLIC
DESCRIPTION:Building Stronger Families: Enhancing Communication and Positiv
 e Parenting
DTSTAMP:20260419T221154Z
END:VEVENT
BEGIN:VEVENT
UID:69e5532aec107
DTSTART:20240621T103000Z
SEQUENCE:0
TRANSP:OPAQUE
DTEND:20240621T123000Z
SUMMARY:Building Stronger Families: Enhancing Communication and Positive Pa
 renting
CLASS:PUBLIC
DESCRIPTION:Building Stronger Families: Enhancing Communication and Positiv
 e Parenting
DTSTAMP:20260419T221154Z
END:VEVENT
BEGIN:VEVENT
UID:69e5532aec10b
DTSTART:20240622T103000Z
SEQUENCE:0
TRANSP:OPAQUE
DTEND:20240622T123000Z
SUMMARY:Building Stronger Families: Enhancing Communication and Positive Pa
 renting
CLASS:PUBLIC
DESCRIPTION:Building Stronger Families: Enhancing Communication and Positiv
 e Parenting
DTSTAMP:20260419T221154Z
END:VEVENT
BEGIN:VEVENT
UID:69e5532aec110
DTSTART:20240623T103000Z
SEQUENCE:0
TRANSP:OPAQUE
DTEND:20240623T123000Z
SUMMARY:Building Stronger Families: Enhancing Communication and Positive Pa
 renting
CLASS:PUBLIC
DESCRIPTION:Building Stronger Families: Enhancing Communication and Positiv
 e Parenting
DTSTAMP:20260419T221154Z
END:VEVENT
BEGIN:VEVENT
UID:69e5532aec114
DTSTART:20240624T103000Z
SEQUENCE:0
TRANSP:OPAQUE
DTEND:20240624T123000Z
SUMMARY:Building Stronger Families: Enhancing Communication and Positive Pa
 renting
CLASS:PUBLIC
DESCRIPTION:Building Stronger Families: Enhancing Communication and Positiv
 e Parenting
DTSTAMP:20260419T221154Z
END:VEVENT
BEGIN:VEVENT
UID:69e5532aec118
DTSTART:20240625T103000Z
SEQUENCE:0
TRANSP:OPAQUE
DTEND:20240625T123000Z
SUMMARY:Building Stronger Families: Enhancing Communication and Positive Pa
 renting
CLASS:PUBLIC
DESCRIPTION:Building Stronger Families: Enhancing Communication and Positiv
 e Parenting
DTSTAMP:20260419T221154Z
END:VEVENT
BEGIN:VEVENT
UID:69e5532aec11c
DTSTART:20240626T103000Z
SEQUENCE:0
TRANSP:OPAQUE
DTEND:20240626T123000Z
SUMMARY:Building Stronger Families: Enhancing Communication and Positive Pa
 renting
CLASS:PUBLIC
DESCRIPTION:Building Stronger Families: Enhancing Communication and Positiv
 e Parenting
DTSTAMP:20260419T221154Z
END:VEVENT
BEGIN:VEVENT
UID:69e5532aec120
DTSTART:20240627T103000Z
SEQUENCE:0
TRANSP:OPAQUE
DTEND:20240627T123000Z
SUMMARY:Building Stronger Families: Enhancing Communication and Positive Pa
 renting
CLASS:PUBLIC
DESCRIPTION:Building Stronger Families: Enhancing Communication and Positiv
 e Parenting
DTSTAMP:20260419T221154Z
END:VEVENT
BEGIN:VEVENT
UID:69e5532aec125
DTSTART:20240628T103000Z
SEQUENCE:0
TRANSP:OPAQUE
DTEND:20240628T123000Z
SUMMARY:Building Stronger Families: Enhancing Communication and Positive Pa
 renting
CLASS:PUBLIC
DESCRIPTION:Building Stronger Families: Enhancing Communication and Positiv
 e Parenting
DTSTAMP:20260419T221154Z
END:VEVENT
BEGIN:VEVENT
UID:69e5532aec12b
DTSTART:20240629T103000Z
SEQUENCE:0
TRANSP:OPAQUE
DTEND:20240629T123000Z
SUMMARY:Building Stronger Families: Enhancing Communication and Positive Pa
 renting
CLASS:PUBLIC
DESCRIPTION:Building Stronger Families: Enhancing Communication and Positiv
 e Parenting
DTSTAMP:20260419T221154Z
END:VEVENT
BEGIN:VEVENT
UID:69e5532aec12f
DTSTART:20240630T103000Z
SEQUENCE:0
TRANSP:OPAQUE
DTEND:20240630T123000Z
SUMMARY:Building Stronger Families: Enhancing Communication and Positive Pa
 renting
CLASS:PUBLIC
DESCRIPTION:Building Stronger Families: Enhancing Communication and Positiv
 e Parenting
DTSTAMP:20260419T221154Z
END:VEVENT
BEGIN:VEVENT
UID:69e5532aec134
DTSTART:20240701T103000Z
SEQUENCE:0
TRANSP:OPAQUE
DTEND:20240701T123000Z
SUMMARY:Building Stronger Families: Enhancing Communication and Positive Pa
 renting
CLASS:PUBLIC
DESCRIPTION:Building Stronger Families: Enhancing Communication and Positiv
 e Parenting
DTSTAMP:20260419T221154Z
END:VEVENT
BEGIN:VEVENT
UID:69e5532aec138
DTSTART:20240702T103000Z
SEQUENCE:0
TRANSP:OPAQUE
DTEND:20240702T123000Z
SUMMARY:Building Stronger Families: Enhancing Communication and Positive Pa
 renting
CLASS:PUBLIC
DESCRIPTION:Building Stronger Families: Enhancing Communication and Positiv
 e Parenting
DTSTAMP:20260419T221154Z
END:VEVENT
BEGIN:VEVENT
UID:69e5532aec13c
DTSTART:20240703T103000Z
SEQUENCE:0
TRANSP:OPAQUE
DTEND:20240703T123000Z
SUMMARY:Building Stronger Families: Enhancing Communication and Positive Pa
 renting
CLASS:PUBLIC
DESCRIPTION:Building Stronger Families: Enhancing Communication and Positiv
 e Parenting
DTSTAMP:20260419T221154Z
END:VEVENT
END:VCALENDAR